BEGIN:VCALENDAR
VERSION:2.0
PRODID:-//Tukios.com/
BEGIN:VEVENT
UID:ebebf1eb-53e6-4c6c-850b-3aabbeec9c48@www.chambersfuneralhome.net
DTSTAMP:20260423T001031Z
DTSTART:20260502T174500Z
DTEND:20260502T180000Z
SUMMARY:Interment
DESCRIPTION:
URL:https://www.chambersfuneralhome.net/obituaries/sandy-douglas
LOCATION:Highland Memorial Gardens 3115 18th Ave  Bessemer AL 35020
GEO:33.4257534;-86.9592797
END:VEVENT
END:VCALENDAR