BEGIN:VCALENDAR
VERSION:2.0
PRODID:-//Tukios.com/
BEGIN:VEVENT
UID:463f9481-2f19-48f5-a6da-2d24fc03c125@www.chambersfuneralhome.net
DTSTAMP:20260423T001128Z
DTSTART:20260502T160000Z
DTEND:20260502T170000Z
SUMMARY:Celebration of Life Service
DESCRIPTION:
URL:https://www.chambersfuneralhome.net/obituaries/sandy-douglas
LOCATION:Macedonia Baptist Church 1401 26th St N  Bessemer AL 35020
GEO:33.4187267;-86.9608245
END:VEVENT
END:VCALENDAR