BEGIN:VCALENDAR
VERSION:2.0
PRODID:-//Tukios.com/
BEGIN:VEVENT
UID:9e1f38a0-7cb1-4fdd-957d-b4b67f16a1b1@www.chambersfuneralhome.net
DTSTAMP:20260423T000929Z
DTSTART:20260502T150000Z
DTEND:20260502T160000Z
SUMMARY:Public Visitation
DESCRIPTION:
URL:https://www.chambersfuneralhome.net/obituaries/sandy-douglas
LOCATION:Macedonia Baptist Church 1401 26th St N  Bessemer AL 35020
GEO:33.4187267;-86.9608245
END:VEVENT
END:VCALENDAR