BEGIN:VCALENDAR
VERSION:2.0
PRODID:-//Tukios.com/
BEGIN:VEVENT
UID:b7bb8fdb-2855-48cf-8355-1a1ace917173@www.chambersfuneralhome.net
DTSTAMP:20260423T001250Z
DTSTART:20260501T180000Z
DTEND:20260502T000000Z
SUMMARY:Public Visitation
DESCRIPTION:
URL:https://www.chambersfuneralhome.net/obituaries/sandy-douglas
LOCATION:Chambers Funeral Home 2527 9th Avenue North  Bessemer AL 35020
GEO:33.4137952;-86.9545514
END:VEVENT
END:VCALENDAR